BEGIN:VCALENDAR
VERSION:2.0
PRODID:-//Asheville FM - ECPv6.15.17//NONSGML v1.0//EN
CALSCALE:GREGORIAN
METHOD:PUBLISH
X-WR-CALNAME:Asheville FM
X-ORIGINAL-URL:https://ashevillefm.org
X-WR-CALDESC:Events for Asheville FM
REFRESH-INTERVAL;VALUE=DURATION:PT1H
X-Robots-Tag:noindex
X-PUBLISHED-TTL:PT1H
BEGIN:VTIMEZONE
TZID:America/New_York
BEGIN:DAYLIGHT
TZOFFSETFROM:-0500
TZOFFSETTO:-0400
TZNAME:EDT
DTSTART:20160313T070000
END:DAYLIGHT
BEGIN:STANDARD
TZOFFSETFROM:-0400
TZOFFSETTO:-0500
TZNAME:EST
DTSTART:20161106T060000
END:STANDARD
BEGIN:DAYLIGHT
TZOFFSETFROM:-0500
TZOFFSETTO:-0400
TZNAME:EDT
DTSTART:20170312T070000
END:DAYLIGHT
BEGIN:STANDARD
TZOFFSETFROM:-0400
TZOFFSETTO:-0500
TZNAME:EST
DTSTART:20171105T060000
END:STANDARD
BEGIN:DAYLIGHT
TZOFFSETFROM:-0500
TZOFFSETTO:-0400
TZNAME:EDT
DTSTART:20180311T070000
END:DAYLIGHT
BEGIN:STANDARD
TZOFFSETFROM:-0400
TZOFFSETTO:-0500
TZNAME:EST
DTSTART:20181104T060000
END:STANDARD
END:VTIMEZONE
BEGIN:VEVENT
DTSTART;VALUE=DATE:20171228
DTEND;VALUE=DATE:20171229
DTSTAMP:20260421T202417
CREATED:20171224T023234Z
LAST-MODIFIED:20171224T023234Z
UID:7754-1514419200-1514505599@ashevillefm.org
SUMMARY:Thursday Concert & Movie Calendar
DESCRIPTION:HERE’S YOUR 103.3 Asheville FM EVENT CALENDAR for Thursday\, December 28th\n\n\n\nMUSIC TONIGHT\n\n\n\nperformer\nvenue\n\n\nUnihorn featuring members of Empire Strikes Brass\nat Bens Tune Up\n\n\nDAVE DESMELIK SONGWRITER SERIES\nat UpCountry Brewing\n\n\nTRIVIA NIGHT\nat The One Stop\n\n\nGreg Ruby and Friends\nat Isis Music Hall\n\n\nCarolina Catskins\nat The Crow and Quill\n\n\nC2 AND THE BROTHERS REED\nat Pisgah Brewing\n\n\nRoots and Friends Open Jam\nat Highland Brewing\n\n\nInfernal Coil w/ WVRM\, Torch Runner & Shadow of the Destroyer\nat The Odditorium\n\n\nTONIGHT AT THE MOVIES:\n\n\n\nFine Arts Theater is showing:\nThe Shape of Water & Darkest Hour\n\n\n\n\n\n\nGrail Moviehouse is showing:\nLady Bird\, Star Wars: The Last Jedi\, The Disaster Artist & Loving Vincent\n\n\n\n\n\n\nAsheville Pizza and Brewing is showing:\nDespicable Me 3\, Murder on the Orient Express & Geostorm
URL:https://ashevillefm.org/event/thursday-concert-movie-calendar-14/
LOCATION:North Carolina
END:VEVENT
END:VCALENDAR