BEGIN:VCALENDAR
VERSION:2.0
PRODID:-//Asheville FM - ECPv6.15.17//NONSGML v1.0//EN
CALSCALE:GREGORIAN
METHOD:PUBLISH
X-WR-CALNAME:Asheville FM
X-ORIGINAL-URL:https://ashevillefm.org
X-WR-CALDESC:Events for Asheville FM
REFRESH-INTERVAL;VALUE=DURATION:PT1H
X-Robots-Tag:noindex
X-PUBLISHED-TTL:PT1H
BEGIN:VTIMEZONE
TZID:America/New_York
BEGIN:DAYLIGHT
TZOFFSETFROM:-0500
TZOFFSETTO:-0400
TZNAME:EDT
DTSTART:20170312T070000
END:DAYLIGHT
BEGIN:STANDARD
TZOFFSETFROM:-0400
TZOFFSETTO:-0500
TZNAME:EST
DTSTART:20171105T060000
END:STANDARD
BEGIN:DAYLIGHT
TZOFFSETFROM:-0500
TZOFFSETTO:-0400
TZNAME:EDT
DTSTART:20180311T070000
END:DAYLIGHT
BEGIN:STANDARD
TZOFFSETFROM:-0400
TZOFFSETTO:-0500
TZNAME:EST
DTSTART:20181104T060000
END:STANDARD
BEGIN:DAYLIGHT
TZOFFSETFROM:-0500
TZOFFSETTO:-0400
TZNAME:EDT
DTSTART:20190310T070000
END:DAYLIGHT
BEGIN:STANDARD
TZOFFSETFROM:-0400
TZOFFSETTO:-0500
TZNAME:EST
DTSTART:20191103T060000
END:STANDARD
END:VTIMEZONE
BEGIN:VEVENT
DTSTART;VALUE=DATE:20180108
DTEND;VALUE=DATE:20180109
DTSTAMP:20260420T235306
CREATED:20180108T014316Z
LAST-MODIFIED:20180108T014316Z
UID:7857-1515369600-1515455999@ashevillefm.org
SUMMARY:Monday Concert & Movie Calendar
DESCRIPTION:HERE’S YOUR 103.3 Asheville FM EVENT CALENDAR for Monday\, January 8th\n\n\n\nMUSIC TONIGHT\n\n\n\nperformer\nvenue\n\n\nLive Hip Hop showcases w/ Juan Holliday & Mike Martinez\nat Bens Tune Up\n\n\nCash Unchained: The Music of Johnny Cash\nat The Grey Eagle\n\n\nBlack Sea Beat Society w/ Mother Marrow & Astoria\nat The Mothlight\n\n\nGame Night & Hip Hop at Highland\nat Highland Brewing\n\n\nMovie Monday Double Feature: Harry Potter and the Sorcerer’s Stone & Clerks\nat The Orange Peel\n\n\nTONIGHT AT THE MOVIES:\n\n\n\nFine Arts Theater is showing:\nThe Shape of Water & Darkest Hour\n\n\n\n\n\n\nGrail Moviehouse is showing:\nLady Bird\, Star Wars: The Last Jedi\, The Disaster Artist & Human Flow\n\n\n\n\n\n\nAsheville Pizza and Brewing is showing:\nA Bad Mom’s Christmas\, Murder on the Orient Express & The Boss Baby
URL:https://ashevillefm.org/event/monday-concert-movie-calendar-17/
LOCATION:North Carolina
END:VEVENT
END:VCALENDAR