BEGIN:VCALENDAR
VERSION:2.0
PRODID:-//Asheville FM - ECPv6.15.17//NONSGML v1.0//EN
CALSCALE:GREGORIAN
METHOD:PUBLISH
X-WR-CALNAME:Asheville FM
X-ORIGINAL-URL:https://ashevillefm.org
X-WR-CALDESC:Events for Asheville FM
REFRESH-INTERVAL;VALUE=DURATION:PT1H
X-Robots-Tag:noindex
X-PUBLISHED-TTL:PT1H
BEGIN:VTIMEZONE
TZID:America/New_York
BEGIN:DAYLIGHT
TZOFFSETFROM:-0500
TZOFFSETTO:-0400
TZNAME:EDT
DTSTART:20170312T070000
END:DAYLIGHT
BEGIN:STANDARD
TZOFFSETFROM:-0400
TZOFFSETTO:-0500
TZNAME:EST
DTSTART:20171105T060000
END:STANDARD
BEGIN:DAYLIGHT
TZOFFSETFROM:-0500
TZOFFSETTO:-0400
TZNAME:EDT
DTSTART:20180311T070000
END:DAYLIGHT
BEGIN:STANDARD
TZOFFSETFROM:-0400
TZOFFSETTO:-0500
TZNAME:EST
DTSTART:20181104T060000
END:STANDARD
BEGIN:DAYLIGHT
TZOFFSETFROM:-0500
TZOFFSETTO:-0400
TZNAME:EDT
DTSTART:20190310T070000
END:DAYLIGHT
BEGIN:STANDARD
TZOFFSETFROM:-0400
TZOFFSETTO:-0500
TZNAME:EST
DTSTART:20191103T060000
END:STANDARD
END:VTIMEZONE
BEGIN:VEVENT
DTSTART;VALUE=DATE:20180112
DTEND;VALUE=DATE:20180113
DTSTAMP:20260420T101752
CREATED:20180112T130440Z
LAST-MODIFIED:20180112T130440Z
UID:7897-1515715200-1515801599@ashevillefm.org
SUMMARY:Friday Concert & Movie Calendar
DESCRIPTION:HERE’S YOUR 103.3 Asheville FM EVENT CALENDAR for Friday\, January 12th\n\n\n\nMUSIC TONIGHT\n\n\n\nperformer\nvenue\n\n\nVinyl Night Dance Party\nat Bens Tune Up\n\n\nMeow-crobrew Spectacular\nat The Grey Eagle\n\n\nCharlie’s on Acid w/ Isabelle’s Gift\, Gutterhound\, Strange Avenues\nat The Mothlight\n\n\nCYNDI LOU & THE WANT TO\nat UpCountry Brewing\n\n\nRasa\, Synth Etiquette\, Mary Peters\, Niels\, and Captain EZ\nat The Sly Grog\n\n\nPHUNCLE SAM\nat Asheville Music Hall\n\n\nDEAD FRIDAYS(early) followed by MARQUEE MAYFIELD\nat The One Stop\n\n\nMountain Soul Party 2018\nat Isis Music Hall\n\n\nFirecracker Jazz Band\nat The Crow and Quill\n\n\nWiseapple / Grassdance Reunion show\nat Highland Brewing\n\n\nTurkuaz w/ The Fritz\nat The Orange Peel\n\n\nYashira\, Bathe\, Uninhabitable\nat The Odditorium\n\n\nTONIGHT AT THE MOVIES:\n\n\n\nFine Arts Theater is showing:\nThe Shape of Water & Darkest Hour\n\n\n\n\n\n\nGrail Moviehouse is showing:\nThe Post\, Lady Bird\, The Disaster Artist\, & Human Flow\n\n\n\n\n\n\nAsheville Pizza and Brewing is showing:\nSpirited Away & Murder on the Orient Express\n\n\n\n\n\n\n\n 
URL:https://ashevillefm.org/event/friday-concert-movie-calendar-12/
LOCATION:North Carolina
END:VEVENT
END:VCALENDAR