BEGIN:VCALENDAR
VERSION:2.0
PRODID:-//Asheville FM - ECPv6.15.17//NONSGML v1.0//EN
CALSCALE:GREGORIAN
METHOD:PUBLISH
X-ORIGINAL-URL:https://ashevillefm.org
X-WR-CALDESC:Events for Asheville FM
REFRESH-INTERVAL;VALUE=DURATION:PT1H
X-Robots-Tag:noindex
X-PUBLISHED-TTL:PT1H
BEGIN:VTIMEZONE
TZID:America/New_York
BEGIN:DAYLIGHT
TZOFFSETFROM:-0500
TZOFFSETTO:-0400
TZNAME:EDT
DTSTART:20170312T070000
END:DAYLIGHT
BEGIN:STANDARD
TZOFFSETFROM:-0400
TZOFFSETTO:-0500
TZNAME:EST
DTSTART:20171105T060000
END:STANDARD
BEGIN:DAYLIGHT
TZOFFSETFROM:-0500
TZOFFSETTO:-0400
TZNAME:EDT
DTSTART:20180311T070000
END:DAYLIGHT
BEGIN:STANDARD
TZOFFSETFROM:-0400
TZOFFSETTO:-0500
TZNAME:EST
DTSTART:20181104T060000
END:STANDARD
BEGIN:DAYLIGHT
TZOFFSETFROM:-0500
TZOFFSETTO:-0400
TZNAME:EDT
DTSTART:20190310T070000
END:DAYLIGHT
BEGIN:STANDARD
TZOFFSETFROM:-0400
TZOFFSETTO:-0500
TZNAME:EST
DTSTART:20191103T060000
END:STANDARD
END:VTIMEZONE
BEGIN:VEVENT
DTSTART;VALUE=DATE:20180114
DTEND;VALUE=DATE:20180115
DTSTAMP:20260420T114524
CREATED:20180112T131059Z
LAST-MODIFIED:20180112T131059Z
UID:7901-1515888000-1515974399@ashevillefm.org
SUMMARY:Sunday Concert & Movie Calendar
DESCRIPTION:HERE’S YOUR 103.3 Asheville FM EVENT CALENDAR for Sunday\, January 14th\n\n\n\nMUSIC TONIGHT\n\n\n\nperformer\nvenue\n\n\nAsheville Reggae Collective w/ Dub Kartel (early) followed by DJ Oso Rey\nat Bens Tune Up\n\n\nSunday Night Open Mic\nat The Sly Grog\n\n\nBLUEGRASS BRUNCH W/ SUFI BROTHERS\, BALD MOUNTAIN BOYS + CHICKEN COOP WILLAYE\nat The One Stop\n\n\nJesse Barry and Daniel Iannucci (early) followed by Peggy Ratusz\nat Isis Music Hall\n\n\nTRAVERS SUNDAY JAM FT. ASHLEY HEATH\nat Pisgah Brewing\n\n\nReggae Sunday\nat Highland Brewing\n\n\nSaved By The 90s\nat The Orange Peel\n\n\nHarlem Globetrotters 2018\nat US Cellular Center\n\n\n80s/90s Dance Party\nat The Odditorium\n\n\nTONIGHT AT THE MOVIES:\n\n\n\nFine Arts Theater is showing:\nThe Shape of Water & Darkest Hour\n\n\n\n\n\n\nGrail Moviehouse is showing:\nThe Post\, Lady Bird\, The Disaster Artist\, Human Flow & the Isreali Film Series feature: Vise Versa\n\n\n\n\n\n\nAsheville Pizza and Brewing is showing:\nSpirited Away & Murder on the Orient Express\n\n\n\n\n\n\n\n 
URL:https://ashevillefm.org/event/sunday-concert-movie-calendar-15/
LOCATION:North Carolina
END:VEVENT
END:VCALENDAR