BEGIN:VCALENDAR
VERSION:2.0
PRODID:-//Asheville FM - ECPv6.15.17//NONSGML v1.0//EN
CALSCALE:GREGORIAN
METHOD:PUBLISH
X-WR-CALNAME:Asheville FM
X-ORIGINAL-URL:https://ashevillefm.org
X-WR-CALDESC:Events for Asheville FM
REFRESH-INTERVAL;VALUE=DURATION:PT1H
X-Robots-Tag:noindex
X-PUBLISHED-TTL:PT1H
BEGIN:VTIMEZONE
TZID:America/New_York
BEGIN:DAYLIGHT
TZOFFSETFROM:-0500
TZOFFSETTO:-0400
TZNAME:EDT
DTSTART:20170312T070000
END:DAYLIGHT
BEGIN:STANDARD
TZOFFSETFROM:-0400
TZOFFSETTO:-0500
TZNAME:EST
DTSTART:20171105T060000
END:STANDARD
BEGIN:DAYLIGHT
TZOFFSETFROM:-0500
TZOFFSETTO:-0400
TZNAME:EDT
DTSTART:20180311T070000
END:DAYLIGHT
BEGIN:STANDARD
TZOFFSETFROM:-0400
TZOFFSETTO:-0500
TZNAME:EST
DTSTART:20181104T060000
END:STANDARD
BEGIN:DAYLIGHT
TZOFFSETFROM:-0500
TZOFFSETTO:-0400
TZNAME:EDT
DTSTART:20190310T070000
END:DAYLIGHT
BEGIN:STANDARD
TZOFFSETFROM:-0400
TZOFFSETTO:-0500
TZNAME:EST
DTSTART:20191103T060000
END:STANDARD
END:VTIMEZONE
BEGIN:VEVENT
DTSTART;VALUE=DATE:20180116
DTEND;VALUE=DATE:20180117
DTSTAMP:20260420T235246
CREATED:20180112T131615Z
LAST-MODIFIED:20180112T131615Z
UID:7905-1516060800-1516147199@ashevillefm.org
SUMMARY:Tuesday Concert & Movie Calendar
DESCRIPTION:HERE’S YOUR 103.3 Asheville FM EVENT CALENDAR for Tuesday\, January 16th\n\n\n\nMUSIC TONIGHT\n\n\n\nperformer\nvenue\n\n\nTwelve Olympians\nat Bens Tune Up\n\n\nDavid Dondero w/ Anthony Lapalomento\nat The Mothlight\n\n\nOPEN MIC NIGHT\nat UpCountry Brewing\n\n\nBlack Box Theory\, Walk Home\, CD Grave\nat The Sly Grog\n\n\nTUESDAY NIGHT FUNK JAM\nat Asheville Music Hall\n\n\nTURNTABLE TUESDAYS\nat The One Stop\n\n\nTuesday Bluegrass Sessions\nat Isis Music Hall\n\n\nDr Brown’s Team Trivia\nat Highland Brewing\n\n\nOpen Mic Comedy\nat The Odditorium\n\n\nTONIGHT AT THE MOVIES:\n\n\n\nFine Arts Theater is showing:\nThe Shape of Water & Darkest Hour\n\n\n\n\n\n\nGrail Moviehouse is showing:\nThe Post\, Lady Bird\, The Disaster Artist\, Human Flow & Asheville Film Society’s Feature Presentation\n\n\n\n\n\n\nAsheville Pizza and Brewing is showing:\nSpirited Away & Murder on the Orient Express\n\n\n\n\n\n\n\n 
URL:https://ashevillefm.org/event/tuesday-concert-movie-calendar-17/
LOCATION:North Carolina
END:VEVENT
END:VCALENDAR