BEGIN:VCALENDAR
VERSION:2.0
PRODID:-//Asheville FM - ECPv6.15.17//NONSGML v1.0//EN
CALSCALE:GREGORIAN
METHOD:PUBLISH
X-ORIGINAL-URL:https://ashevillefm.org
X-WR-CALDESC:Events for Asheville FM
REFRESH-INTERVAL;VALUE=DURATION:PT1H
X-Robots-Tag:noindex
X-PUBLISHED-TTL:PT1H
BEGIN:VTIMEZONE
TZID:America/New_York
BEGIN:DAYLIGHT
TZOFFSETFROM:-0500
TZOFFSETTO:-0400
TZNAME:EDT
DTSTART:20170312T070000
END:DAYLIGHT
BEGIN:STANDARD
TZOFFSETFROM:-0400
TZOFFSETTO:-0500
TZNAME:EST
DTSTART:20171105T060000
END:STANDARD
BEGIN:DAYLIGHT
TZOFFSETFROM:-0500
TZOFFSETTO:-0400
TZNAME:EDT
DTSTART:20180311T070000
END:DAYLIGHT
BEGIN:STANDARD
TZOFFSETFROM:-0400
TZOFFSETTO:-0500
TZNAME:EST
DTSTART:20181104T060000
END:STANDARD
BEGIN:DAYLIGHT
TZOFFSETFROM:-0500
TZOFFSETTO:-0400
TZNAME:EDT
DTSTART:20190310T070000
END:DAYLIGHT
BEGIN:STANDARD
TZOFFSETFROM:-0400
TZOFFSETTO:-0500
TZNAME:EST
DTSTART:20191103T060000
END:STANDARD
END:VTIMEZONE
BEGIN:VEVENT
DTSTART;VALUE=DATE:20180126
DTEND;VALUE=DATE:20180127
DTSTAMP:20260421T181853
CREATED:20180126T221310Z
LAST-MODIFIED:20180126T221310Z
UID:8067-1516924800-1517011199@ashevillefm.org
SUMMARY:Friday Concert & Movie Calendar
DESCRIPTION:HERE’S YOUR 103.3 Asheville FM EVENT CALENDAR for Friday\, January 26th\n\n\n\nPerformer\n\n\n\nMUSIC TONIGHT\n\n\n\nperformer\nvenue\n\n\nVinyl Night Dance Party w/ DJ Kilby\nat Bens Tune Up\n\n\nFlobots w/ McLovins\nat The Grey Eagle\n\n\nFringe Fest: Mothlight Triple Feature\, Early Show: Cognitive Dissonance\, After Party & Old Tricks\, followed by Fringe Fest: Mothlight Triple Feature\, Late Show: Meeting the Edge\, Experiments in Connection & Pollock: A Frequency Parable\, then an After Party: Human Energy Field\nat The Mothlight\n\n\nNICK DITTMEIER SOUTHERN BLUES\nat UpCountry Brewing\n\n\nAsheville Fringe: The Experiment and Poetry Cabaret\nat The Sly Grog\n\n\nFLOYD IS DEAD (PRESENTED BY THE SNOZZBERRIES)\nat Asheville Music Hall\n\n\nFree Dead Fridays (early) followed by The Groove Orient\nat The One Stop\n\n\nIan Ridenhour CD Release w/ Beau & Lucy\, and Lost Stars\nat Isis Music Hall\n\n\nDEATH BEFORE DISHONOR TOUR w/ BOMMER & CROWELL\nat New Mountain Asheville\n\n\nCharm City Hot Club\nat The Crow and Quill\n\n\nREASONABLY PRICED BABIES IMPROV COMEDY TROUPE\nat Pisgah Brewing\n\n\nGrandpa’s Cough Medicine\nat Highland Brewing\n\n\nCamerata Chamber Ensemble of the Royal Concertgebouw\nat Diana Wortham Theater\n\n\nDavid Rawlings\nat The Orange Peel\n\n\nPleasure Chest\nat Salvage Station\n\n\nAsheville After Dark Presents: Kink Night 18+\nat The Odditorium\n\n\n\n\n\n\n\n\n\n\n\n\n\n\nTONIGHT AT THE MOVIES:\n\n\n\nFine Arts Theater is showing:\n\n\nI\, Tonya\, The Shape of Water and Rebels on Pointe\n\n\n\n\nGrail Moviehouse is showing:\n\n\nThe Post\, Lady Bird\, The Final Year\, 120 Beats per Minute and The Room\n\n\n\n\nAsheville Pizza and Brewing is showing:\nHowl’s Moving Castle and Justice League
URL:https://ashevillefm.org/event/friday-concert-movie-calendar-13/
LOCATION:North Carolina
END:VEVENT
END:VCALENDAR