BEGIN:VCALENDAR
VERSION:2.0
PRODID:-//Asheville FM - ECPv6.15.17//NONSGML v1.0//EN
CALSCALE:GREGORIAN
METHOD:PUBLISH
X-ORIGINAL-URL:https://ashevillefm.org
X-WR-CALDESC:Events for Asheville FM
REFRESH-INTERVAL;VALUE=DURATION:PT1H
X-Robots-Tag:noindex
X-PUBLISHED-TTL:PT1H
BEGIN:VTIMEZONE
TZID:America/New_York
BEGIN:DAYLIGHT
TZOFFSETFROM:-0500
TZOFFSETTO:-0400
TZNAME:EDT
DTSTART:20170312T070000
END:DAYLIGHT
BEGIN:STANDARD
TZOFFSETFROM:-0400
TZOFFSETTO:-0500
TZNAME:EST
DTSTART:20171105T060000
END:STANDARD
BEGIN:DAYLIGHT
TZOFFSETFROM:-0500
TZOFFSETTO:-0400
TZNAME:EDT
DTSTART:20180311T070000
END:DAYLIGHT
BEGIN:STANDARD
TZOFFSETFROM:-0400
TZOFFSETTO:-0500
TZNAME:EST
DTSTART:20181104T060000
END:STANDARD
BEGIN:DAYLIGHT
TZOFFSETFROM:-0500
TZOFFSETTO:-0400
TZNAME:EDT
DTSTART:20190310T070000
END:DAYLIGHT
BEGIN:STANDARD
TZOFFSETFROM:-0400
TZOFFSETTO:-0500
TZNAME:EST
DTSTART:20191103T060000
END:STANDARD
END:VTIMEZONE
BEGIN:VEVENT
DTSTART;VALUE=DATE:20180204
DTEND;VALUE=DATE:20180205
DTSTAMP:20260420T095949
CREATED:20180202T012615Z
LAST-MODIFIED:20180202T012615Z
UID:8151-1517702400-1517788799@ashevillefm.org
SUMMARY:Sunday Concert & Movie Calendar
DESCRIPTION:HERE’S YOUR 103.3 Asheville FM EVENT CALENDAR for Sunday\, February 4th\n\n\n\nMUSIC TONIGHT\n\n\n\nperformer\nvenue\n\n\nAsheville Reggae Collective w/ Dub Kartel (early) followed by DJ Oso Rey\nat Bens Tune Up\n\n\nSuper Bowl Party\nat The Grey Eagle\n\n\nSUPER BOWL ON THE BIG SCREEN\nat UpCountry Brewing\n\n\nBLUEGRASS BRUNCH W/ SUFI BROTHERS & BALD MOUNTAIN BOYS\nat The One Stop\n\n\nWelcome to Jazzville (lounge seated)\nat Isis Music Hall\n\n\nBrewer’s Breakfast w/ Chalwa\nat Pisgah Brewing\n\n\nRaggae Sunday\, hosted by Chalwa\nat Highland Brewing\n\n\nHamlet – Aquila Theatre Company\nat Diana Wortham Theater\n\n\nWaltz Night\nat The Orange Peel\n\n\n80s/90s Dance Party\nat The Odditorium\n\n\nTONIGHT AT THE MOVIES:\n\n\n\nFine Arts Theater is showing:\nI\, Tonya & The Shape of Water\n\n\n\n\n\n\nGrail Moviehouse is showing:\nPhantom Thread\, Lady Bird\, Call Me By Your Name\, & Silent Sundays with Film Historian Frank Thompson\n\n\n\n\n\n\nAsheville Pizza and Brewing is showing:\nKiki’s Delivery Service & Thor: Ragnarok 3D\n\n\n\n\n\n\n\n 
URL:https://ashevillefm.org/event/sunday-concert-movie-calendar-17/
LOCATION:North Carolina
END:VEVENT
END:VCALENDAR