BEGIN:VCALENDAR
VERSION:2.0
PRODID:-//Asheville FM - ECPv6.15.17//NONSGML v1.0//EN
CALSCALE:GREGORIAN
METHOD:PUBLISH
X-WR-CALNAME:Asheville FM
X-ORIGINAL-URL:https://ashevillefm.org
X-WR-CALDESC:Events for Asheville FM
REFRESH-INTERVAL;VALUE=DURATION:PT1H
X-Robots-Tag:noindex
X-PUBLISHED-TTL:PT1H
BEGIN:VTIMEZONE
TZID:America/New_York
BEGIN:DAYLIGHT
TZOFFSETFROM:-0500
TZOFFSETTO:-0400
TZNAME:EDT
DTSTART:20170312T070000
END:DAYLIGHT
BEGIN:STANDARD
TZOFFSETFROM:-0400
TZOFFSETTO:-0500
TZNAME:EST
DTSTART:20171105T060000
END:STANDARD
BEGIN:DAYLIGHT
TZOFFSETFROM:-0500
TZOFFSETTO:-0400
TZNAME:EDT
DTSTART:20180311T070000
END:DAYLIGHT
BEGIN:STANDARD
TZOFFSETFROM:-0400
TZOFFSETTO:-0500
TZNAME:EST
DTSTART:20181104T060000
END:STANDARD
BEGIN:DAYLIGHT
TZOFFSETFROM:-0500
TZOFFSETTO:-0400
TZNAME:EDT
DTSTART:20190310T070000
END:DAYLIGHT
BEGIN:STANDARD
TZOFFSETFROM:-0400
TZOFFSETTO:-0500
TZNAME:EST
DTSTART:20191103T060000
END:STANDARD
END:VTIMEZONE
BEGIN:VEVENT
DTSTART;VALUE=DATE:20180207
DTEND;VALUE=DATE:20180208
DTSTAMP:20260421T202357
CREATED:20180202T013101Z
LAST-MODIFIED:20180202T013101Z
UID:8157-1517961600-1518047999@ashevillefm.org
SUMMARY:Wednesday Concert & Movie Calendar
DESCRIPTION:HERE’S YOUR 103.3 Asheville FM EVENT CALENDAR for Wednesday\, February 7th\n\n\n\nMUSIC TONIGHT\n\n\n\nperformer\nvenue\n\n\nEVIL NOTE LAB\nat The One Stop\n\n\nLove is a Rose Acoustic: Celebrating the Music of Linda Ronstadt (early) followed by Moonshine Rhythm Club with Guest Russ Wilson\nat Isis Music Hall\n\n\nWoody Wood Wednesday w/ HBC Run Club\nat Highland Brewing\n\n\nBlues Traveler w/ Los Colognes\nat The Orange Peel\n\n\nTONIGHT AT THE MOVIES:\n\n\n\nFine Arts Theater is showing:\nI\, Tonya & The Shape of Water\n\n\n\n\n\n\nGrail Moviehouse is showing:\nBad Movie Nite\, Phantom Thread\, Lady Bird and Call Me By Your Name\n\n\n\n\n\n\nAsheville Pizza and Brewing is showing:\nKiki’s Delivery Service & Thor: Ragnarok 3D\n\n\n\n\n\n\n\n 
URL:https://ashevillefm.org/event/wednesday-concert-movie-calendar-20/
LOCATION:North Carolina
END:VEVENT
END:VCALENDAR