BEGIN:VCALENDAR
VERSION:2.0
PRODID:-//Asheville FM - ECPv6.15.17//NONSGML v1.0//EN
CALSCALE:GREGORIAN
METHOD:PUBLISH
X-ORIGINAL-URL:https://ashevillefm.org
X-WR-CALDESC:Events for Asheville FM
REFRESH-INTERVAL;VALUE=DURATION:PT1H
X-Robots-Tag:noindex
X-PUBLISHED-TTL:PT1H
BEGIN:VTIMEZONE
TZID:America/New_York
BEGIN:DAYLIGHT
TZOFFSETFROM:-0500
TZOFFSETTO:-0400
TZNAME:EDT
DTSTART:20170312T070000
END:DAYLIGHT
BEGIN:STANDARD
TZOFFSETFROM:-0400
TZOFFSETTO:-0500
TZNAME:EST
DTSTART:20171105T060000
END:STANDARD
BEGIN:DAYLIGHT
TZOFFSETFROM:-0500
TZOFFSETTO:-0400
TZNAME:EDT
DTSTART:20180311T070000
END:DAYLIGHT
BEGIN:STANDARD
TZOFFSETFROM:-0400
TZOFFSETTO:-0500
TZNAME:EST
DTSTART:20181104T060000
END:STANDARD
BEGIN:DAYLIGHT
TZOFFSETFROM:-0500
TZOFFSETTO:-0400
TZNAME:EDT
DTSTART:20190310T070000
END:DAYLIGHT
BEGIN:STANDARD
TZOFFSETFROM:-0400
TZOFFSETTO:-0500
TZNAME:EST
DTSTART:20191103T060000
END:STANDARD
END:VTIMEZONE
BEGIN:VEVENT
DTSTART;VALUE=DATE:20180307
DTEND;VALUE=DATE:20180308
DTSTAMP:20260420T100019
CREATED:20180305T154631Z
LAST-MODIFIED:20180305T154631Z
UID:8699-1520380800-1520467199@ashevillefm.org
SUMMARY:Wednesday Concert & Movie Calendar
DESCRIPTION:HERE’S YOUR 103.3 Asheville FM EVENT CALENDAR for wednesday\, March 7th\n\n\n\nMUSIC TONIGHT\n\n\n\nperformer\nvenue\n\n\nJesse Barry w/ Kelly Jones\nat Bens Tune Up\n\n\nWallows w/ Field Medic\nat The Grey Eagle\n\n\nShopping w/ French Vanilla & KONVOI\nat The Mothlight\n\n\nWeird Wednesday electronic Jam\nat The Sly Grog\n\n\nEVIL NOTE LAB\nat The One Stop\n\n\nThe Sea The Sea\nat Isis Music Hall\n\n\nBODYTRAFFIC (a dance show)\nat Diana Wortham Theater\n\n\nLewis Black\nat The Orange Peel\n\n\nWild Adriatic\nat Salvage Station\n\n\n1476 w/ Volur & All Hell\nat The Odditorium\n\n\nTONIGHT AT THE MOVIES:\n\n\n\nFine Arts Theater is showing:\nFilm Stars Don’t Die in Liverpool\, I\, Tonya & The Shape of Water\n\n\nGrail Moviehouse is showing:\nBlack Panther\, Bombshell: The Hedy Lamarr Story\, Oscar Shorts 2018: Animation\, Oscar Shorts 2018: Live Action\, The Insult & Bad Movie Nite\n\n\nAsheville Pizza and Brewing is showing:\nCoco 3D & Three Billboards Outside Ebbing\, Missouri\n\n\n\n\n\n\n\n 
URL:https://ashevillefm.org/event/wednesday-concert-movie-calendar-24/
LOCATION:North Carolina
END:VEVENT
END:VCALENDAR