BEGIN:VCALENDAR
VERSION:2.0
PRODID:-//Asheville FM - ECPv6.15.17//NONSGML v1.0//EN
CALSCALE:GREGORIAN
METHOD:PUBLISH
X-ORIGINAL-URL:https://ashevillefm.org
X-WR-CALDESC:Events for Asheville FM
REFRESH-INTERVAL;VALUE=DURATION:PT1H
X-Robots-Tag:noindex
X-PUBLISHED-TTL:PT1H
BEGIN:VTIMEZONE
TZID:America/New_York
BEGIN:DAYLIGHT
TZOFFSETFROM:-0500
TZOFFSETTO:-0400
TZNAME:EDT
DTSTART:20170312T070000
END:DAYLIGHT
BEGIN:STANDARD
TZOFFSETFROM:-0400
TZOFFSETTO:-0500
TZNAME:EST
DTSTART:20171105T060000
END:STANDARD
BEGIN:DAYLIGHT
TZOFFSETFROM:-0500
TZOFFSETTO:-0400
TZNAME:EDT
DTSTART:20180311T070000
END:DAYLIGHT
BEGIN:STANDARD
TZOFFSETFROM:-0400
TZOFFSETTO:-0500
TZNAME:EST
DTSTART:20181104T060000
END:STANDARD
BEGIN:DAYLIGHT
TZOFFSETFROM:-0500
TZOFFSETTO:-0400
TZNAME:EDT
DTSTART:20190310T070000
END:DAYLIGHT
BEGIN:STANDARD
TZOFFSETFROM:-0400
TZOFFSETTO:-0500
TZNAME:EST
DTSTART:20191103T060000
END:STANDARD
END:VTIMEZONE
BEGIN:VEVENT
DTSTART;VALUE=DATE:20180311
DTEND;VALUE=DATE:20180312
DTSTAMP:20260421T120300
CREATED:20180311T203719Z
LAST-MODIFIED:20180311T203719Z
UID:8807-1520726400-1520812799@ashevillefm.org
SUMMARY:Sunday Concert & Movie Calendar
DESCRIPTION:HERE’S YOUR 103.3 Asheville FM EVENT CALENDAR for Sunday\, March 11th\n\n\n\nMUSIC TONIGHT\n\n\n\nperformer\nvenue\n\n\nEzra Furman w/ Anna Burch\nat The Grey Eagle\n\n\nYOGA IN THE TAPROOM (day) followed by CINEMA SUNDAY: LABYRINTH\nat UpCountry Brewing\n\n\nOpen Mic\nat The Sly Grog\n\n\nSezessionville Road EP Debut Show (early) followed by Jeff Thompson’s What Four with Juan Holladay\nat Isis Music Hall\n\n\nTRAVERS SUNDAY JAM\nat Pisgah Brewing\n\n\nINSANE CLOWN POSSE x ATTILA\nat Salvage Station\n\n\nBrucemont\, Dentist\, Antiphons\, Indigo De Souza\nat The Odditorium\n\n\nMichelle Malone\nAmbrose West\n\n\n\n\n\n\n\n\n\n\n\n\n\n\nTONIGHT AT THE MOVIES:\n\n\n\nFine Arts Theater is showing:\n\n\nThoroughbreds & A Fantastic Woman (Una mujer fantastica)\n\n\n\n\nGrail Moviehouse is showing:\nBefore we Vanish\, Black Panther\, Happy End\, Bombshell: The Hedy Lamarr Story\, Oh Lucy!\, Holy Air\, & Silent Sundays (Westerns)\n\n\nAsheville Pizza and Brewing is showing:\nStar Wars: The Last Jedi 3D
URL:https://ashevillefm.org/event/sunday-concert-movie-calendar-21/
LOCATION:North Carolina
END:VEVENT
END:VCALENDAR