BEGIN:VCALENDAR
VERSION:2.0
PRODID:-//Asheville FM - ECPv6.15.17//NONSGML v1.0//EN
CALSCALE:GREGORIAN
METHOD:PUBLISH
X-ORIGINAL-URL:https://ashevillefm.org
X-WR-CALDESC:Events for Asheville FM
REFRESH-INTERVAL;VALUE=DURATION:PT1H
X-Robots-Tag:noindex
X-PUBLISHED-TTL:PT1H
BEGIN:VTIMEZONE
TZID:America/New_York
BEGIN:DAYLIGHT
TZOFFSETFROM:-0500
TZOFFSETTO:-0400
TZNAME:EDT
DTSTART:20170312T070000
END:DAYLIGHT
BEGIN:STANDARD
TZOFFSETFROM:-0400
TZOFFSETTO:-0500
TZNAME:EST
DTSTART:20171105T060000
END:STANDARD
BEGIN:DAYLIGHT
TZOFFSETFROM:-0500
TZOFFSETTO:-0400
TZNAME:EDT
DTSTART:20180311T070000
END:DAYLIGHT
BEGIN:STANDARD
TZOFFSETFROM:-0400
TZOFFSETTO:-0500
TZNAME:EST
DTSTART:20181104T060000
END:STANDARD
BEGIN:DAYLIGHT
TZOFFSETFROM:-0500
TZOFFSETTO:-0400
TZNAME:EDT
DTSTART:20190310T070000
END:DAYLIGHT
BEGIN:STANDARD
TZOFFSETFROM:-0400
TZOFFSETTO:-0500
TZNAME:EST
DTSTART:20191103T060000
END:STANDARD
END:VTIMEZONE
BEGIN:VEVENT
DTSTART;VALUE=DATE:20180313
DTEND;VALUE=DATE:20180314
DTSTAMP:20260420T043056
CREATED:20180311T204157Z
LAST-MODIFIED:20180311T204157Z
UID:8811-1520899200-1520985599@ashevillefm.org
SUMMARY:Tuesday Concert & Movie Calendar
DESCRIPTION:HERE’S YOUR 103.3 Asheville FM EVENT CALENDAR for Tuesday\, March 13th\n\n\n\n\n\nMUSIC TONIGHT\n\n\n\nperformer\nvenue\n\n\nBen’s Hip Hop Cypher Tuesday\nat Bens Tune Up\n\n\nOPEN MIC NIGHT\nat UpCountry Brewing\n\n\nOpen Road\nat The Sly Grog\n\n\nTUESDAY NIGHT FUNK JAM\nat Asheville Music Hall\n\n\nTURNTABLE TUESDAY\nat The One Stop\n\n\nTuesday Bluegrass Sessions hosted by JigJam\nat Isis Music Hall\n\n\nOpen Mic Comedy Hosted by Tom Peters\nat The Odditorium\n\n\n\n\n\n\n\n\n\n\n\n\n\n\nTONIGHT AT THE MOVIES:\n\n\n\nFine Arts Theater is showing:\n\n\nThoroughbreds & A Fantastic Woman (Una mujer fantastica)\n\n\n\n\nGrail Moviehouse is showing:\nBefore we Vanish\, Black Panther\, Happy End\, Bombshell: The Hedy Lamarr Story\, Oh Lucy! & Asheville Film Society’s Feature Presentation: Algiers (1938)\n\n\nAsheville Pizza and Brewing is showing:\nStar Wars: The Last Jedi
URL:https://ashevillefm.org/event/tuesday-concert-movie-calendar-24/
LOCATION:North Carolina
END:VEVENT
END:VCALENDAR