BEGIN:VCALENDAR
VERSION:2.0
PRODID:-//Asheville FM - ECPv6.15.17//NONSGML v1.0//EN
CALSCALE:GREGORIAN
METHOD:PUBLISH
X-ORIGINAL-URL:https://ashevillefm.org
X-WR-CALDESC:Events for Asheville FM
REFRESH-INTERVAL;VALUE=DURATION:PT1H
X-Robots-Tag:noindex
X-PUBLISHED-TTL:PT1H
BEGIN:VTIMEZONE
TZID:America/New_York
BEGIN:DAYLIGHT
TZOFFSETFROM:-0500
TZOFFSETTO:-0400
TZNAME:EDT
DTSTART:20170312T070000
END:DAYLIGHT
BEGIN:STANDARD
TZOFFSETFROM:-0400
TZOFFSETTO:-0500
TZNAME:EST
DTSTART:20171105T060000
END:STANDARD
BEGIN:DAYLIGHT
TZOFFSETFROM:-0500
TZOFFSETTO:-0400
TZNAME:EDT
DTSTART:20180311T070000
END:DAYLIGHT
BEGIN:STANDARD
TZOFFSETFROM:-0400
TZOFFSETTO:-0500
TZNAME:EST
DTSTART:20181104T060000
END:STANDARD
BEGIN:DAYLIGHT
TZOFFSETFROM:-0500
TZOFFSETTO:-0400
TZNAME:EDT
DTSTART:20190310T070000
END:DAYLIGHT
BEGIN:STANDARD
TZOFFSETFROM:-0400
TZOFFSETTO:-0500
TZNAME:EST
DTSTART:20191103T060000
END:STANDARD
END:VTIMEZONE
BEGIN:VEVENT
DTSTART;VALUE=DATE:20180315
DTEND;VALUE=DATE:20180316
DTSTAMP:20260421T120255
CREATED:20180311T204637Z
LAST-MODIFIED:20180311T204637Z
UID:8815-1521072000-1521158399@ashevillefm.org
SUMMARY:Thursday Concert & Movie Calendar
DESCRIPTION:HERE’S YOUR 103.3 Asheville FM EVENT CALENDAR for Thursday\, March 15th\n\n\n\n\n\nMUSIC TONIGHT\n\n\n\nperformer\nvenue\n\n\nThe Revelers\nat The Grey Eagle\n\n\nThe Moth: True Stories Told Live (Theme: Tests)\nat The Mothlight\n\n\nANYA HINKLE\nat UpCountry Brewing\n\n\nBrennan Carroll\, Jack Victor\, Eggshell Emily\nat The Sly Grog\n\n\nKUNG FU\nat Asheville Music Hall\n\n\nMITCH’S TOTALLY RAD TRIVIA NIGHT (earlY) Followed by JOSH BLAKE ORGAN TRIO WSG JONATHAN COLE W/ CHRIS COOPER PROJECT\nat The One Stop\n\n\nMichael Braunfeld and Sherman Ewing\nat Isis Music Hall\n\n\nCarolina Catskins\nat The Crow and Quill\n\n\nTHE PAPER CROWNS BAND (early show)\nat Pisgah Brewing\n\n\nSoMo: The Reservations Tour ft. Caye w/ Kid Quill\nat The Orange Peel\n\n\nParty Foul: A Tasteful Queer Troupe (Drag)\nat The Odditorium\n\n\nElectrochemical\nat Ellington Underground\n\n\nPhuncle Sam\nAmbrose West\n\n\n\n\n\n\n\n\n\n\n\n\n\n\nTONIGHT AT THE MOVIES:\n\n\n\nFine Arts Theater is showing:\n\n\nThoroughbreds & A Fantastic Woman (Una mujer fantastica)\n\n\n\n\nGrail Moviehouse is showing:\nBefore we Vanish\, Black Panther\, Happy End\, Bombshell: The Hedy Lamarr Story\, & Oh Lucy!\n\n\nAsheville Pizza and Brewing is showing:\nStar Wars: The Last Jedi 3D & The Princess Bride
URL:https://ashevillefm.org/event/thursday-concert-movie-calendar-23/
LOCATION:North Carolina
END:VEVENT
END:VCALENDAR