BEGIN:VCALENDAR
VERSION:2.0
PRODID:-//Asheville FM - ECPv6.15.17//NONSGML v1.0//EN
CALSCALE:GREGORIAN
METHOD:PUBLISH
X-ORIGINAL-URL:https://ashevillefm.org
X-WR-CALDESC:Events for Asheville FM
REFRESH-INTERVAL;VALUE=DURATION:PT1H
X-Robots-Tag:noindex
X-PUBLISHED-TTL:PT1H
BEGIN:VTIMEZONE
TZID:America/New_York
BEGIN:DAYLIGHT
TZOFFSETFROM:-0500
TZOFFSETTO:-0400
TZNAME:EDT
DTSTART:20170312T070000
END:DAYLIGHT
BEGIN:STANDARD
TZOFFSETFROM:-0400
TZOFFSETTO:-0500
TZNAME:EST
DTSTART:20171105T060000
END:STANDARD
BEGIN:DAYLIGHT
TZOFFSETFROM:-0500
TZOFFSETTO:-0400
TZNAME:EDT
DTSTART:20180311T070000
END:DAYLIGHT
BEGIN:STANDARD
TZOFFSETFROM:-0400
TZOFFSETTO:-0500
TZNAME:EST
DTSTART:20181104T060000
END:STANDARD
BEGIN:DAYLIGHT
TZOFFSETFROM:-0500
TZOFFSETTO:-0400
TZNAME:EDT
DTSTART:20190310T070000
END:DAYLIGHT
BEGIN:STANDARD
TZOFFSETFROM:-0400
TZOFFSETTO:-0500
TZNAME:EST
DTSTART:20191103T060000
END:STANDARD
END:VTIMEZONE
BEGIN:VEVENT
DTSTART;VALUE=DATE:20180317
DTEND;VALUE=DATE:20180318
DTSTAMP:20260421T184149
CREATED:20180316T011008Z
LAST-MODIFIED:20180316T011223Z
UID:8922-1521244800-1521331199@ashevillefm.org
SUMMARY:Saturday Concert & Movie Calendar
DESCRIPTION:HERE’S YOUR 103.3 Asheville FM EVENT CALENDAR for Saturday\, March 17th\n\n\n\nMUSIC TONIGHT\n\n\n\nperformer\nvenue\n\n\nSt. Patrick’s Day Celebration with Four Leaf Peat\nat The Grey Eagle\n\n\nWhite Oak Splits w/ The Hot Knives & The Fuzzards\nat The Mothlight\n\n\nSHAM ROCKED\nat UpCountry Brewing\n\n\nVoice of the Sidhea and Hope Huntington’s Saint Paddy’s Day celebration\nat The Sly Grog\n\n\nJON STICKLEY TRIO w/ HORSESHOES and HAND GRENADES & HEATHER TAYLOR w/ SEAN JEROME\nat Asheville Music Hall\n\n\nST. PATTY’S DAY PARTY W/ DEMON WAFFLE\nat The One Stop\n\n\nAlexa Rose (early) followed by Asheville Vaudeville\nat Isis Music Hall\n\n\nYung Life w/ Shaken Nature & GENDRE\nat Fleetwood’s\n\n\nEposoto Quartet\nat The Crow and Quill\n\n\nTHE WERKS W/ THE SNOZZBERRIES\nat Pisgah Brewing\n\n\nDance Heginbotham – Principles of Uncertainty\nat Diana Wortham Theater\n\n\nWild Child w/ Family and Friends\nat The Orange Peel\n\n\nAsheville Symphony performs Rachmaninoff’s 2nd\nat US Cellular Center\n\n\nST PATRICKS DAY with Pleasures of the Ultraviolent & The Hooliganz\nat Salvage Station\n\n\nVic Crown w/ Thundering Herd\, Mantia & Built On The Ruins\nat The Odditorium\n\n\nJessica Lea Mayfield w/ T. Hardy Morris\nAmbrose West\n\n\nTONIGHT AT THE MOVIES:\n\n\n\nFine Arts Theater is showing:\nA Fantastic Woman & Thoroughbreds\n\n\nGrail Moviehouse is showing:\nConcert For George\, A Wrinkle In Time\, Bombshell: The Hedy Lamarr Story\, Oh Lucy! & The Young Karl Marx\n\n\nAsheville Pizza and Brewing is showing:\nStar Wars: The Last Jedi\n\n\n\n\n\n\n\n 
URL:https://ashevillefm.org/event/saturday-concert-movie-calendar-20/
LOCATION:North Carolina
END:VEVENT
END:VCALENDAR