BEGIN:VCALENDAR
VERSION:2.0
PRODID:-//Asheville FM - ECPv6.15.17//NONSGML v1.0//EN
CALSCALE:GREGORIAN
METHOD:PUBLISH
X-WR-CALNAME:Asheville FM
X-ORIGINAL-URL:https://ashevillefm.org
X-WR-CALDESC:Events for Asheville FM
REFRESH-INTERVAL;VALUE=DURATION:PT1H
X-Robots-Tag:noindex
X-PUBLISHED-TTL:PT1H
BEGIN:VTIMEZONE
TZID:America/New_York
BEGIN:DAYLIGHT
TZOFFSETFROM:-0500
TZOFFSETTO:-0400
TZNAME:EDT
DTSTART:20170312T070000
END:DAYLIGHT
BEGIN:STANDARD
TZOFFSETFROM:-0400
TZOFFSETTO:-0500
TZNAME:EST
DTSTART:20171105T060000
END:STANDARD
BEGIN:DAYLIGHT
TZOFFSETFROM:-0500
TZOFFSETTO:-0400
TZNAME:EDT
DTSTART:20180311T070000
END:DAYLIGHT
BEGIN:STANDARD
TZOFFSETFROM:-0400
TZOFFSETTO:-0500
TZNAME:EST
DTSTART:20181104T060000
END:STANDARD
BEGIN:DAYLIGHT
TZOFFSETFROM:-0500
TZOFFSETTO:-0400
TZNAME:EDT
DTSTART:20190310T070000
END:DAYLIGHT
BEGIN:STANDARD
TZOFFSETFROM:-0400
TZOFFSETTO:-0500
TZNAME:EST
DTSTART:20191103T060000
END:STANDARD
END:VTIMEZONE
BEGIN:VEVENT
DTSTART;VALUE=DATE:20180325
DTEND;VALUE=DATE:20180326
DTSTAMP:20260421T051607
CREATED:20180324T174139Z
LAST-MODIFIED:20180324T174139Z
UID:9001-1521936000-1522022399@ashevillefm.org
SUMMARY:Sunday Concert & Movie Calendar
DESCRIPTION:HERE’S YOUR 103.3 Asheville FM EVENT CALENDAR for Sunday\, March 25th\n\n\n\nMUSIC TONIGHT\n\n\n\nperformer\nvenue\n\n\nDub Kartel followed by DJ Oso Rey\nat Bens Tune Up\n\n\nLOCAL METAL SHOWCASE: Temptation’s Wings\, Dissent\, Horseflesh\nat The Grey Eagle\n\n\nCommunity Dance Party\, Sing Along\, Face Painting and Raffle To Benefit Asheville Primary School\nat The Mothlight\n\n\nYOGA IN THE TAPROOM (daytime)\nat UpCountry Brewing\n\n\nOpen Mic\nat The Sly Grog\n\n\nBLUEGRASS BRUNCH W/ SUFI BROS & BALD MOUNTAIN BOYS\nat The One Stop\n\n\nPaul Brock Band (early) followed by Jesse Barry Sings Carole King’s Tapestry\nat Isis Music Hall\n\n\nPunk Rock Flea (AM) Hearts Gone South/Vaden Landers and The Do Rights/Petey Elwell\nat Fleetwood’s \n\n\nBeards of Valenccio\nat The Crow and Quill\n\n\nTRAVERS SUNDAY JAM FEATURING PAT FURGESON\nat Pisgah Brewing\n\n\nThe 3 Davids Benefit Concert\nat Diana Wortham Theater\n\n\nTri-State Dance Contest\nat US Cellular Center\n\n\nWithered\, Insomniac\, Shadow of the Destroyer\, Uktena\nat The Odditorium\n\n\n\n\n\n\n\n\n\n\n\n\n\n\nTONIGHT AT THE MOVIES:\n\n\n\nFine Arts Theater is showing:\n\n\nThe Death of Stalin & The Party\n\n\n\n\nGrail Moviehouse is showing:\nBombshell: The Hedy Lamarr Story\, Oh Lucy!\, The Young Karl Marx\, LEANING INTO THE WIND: Andy Goldsworthy\, Big Sonia\, & A Wrinkle In Time\n\n\nAsheville Pizza and Brewing is showing:\nJumanji: Welcome to the Jungle 3D & The Shape of Water
URL:https://ashevillefm.org/event/sunday-concert-movie-calendar-23/
LOCATION:North Carolina
END:VEVENT
END:VCALENDAR