BEGIN:VCALENDAR
VERSION:2.0
PRODID:-//Asheville FM - ECPv6.15.17//NONSGML v1.0//EN
CALSCALE:GREGORIAN
METHOD:PUBLISH
X-ORIGINAL-URL:https://ashevillefm.org
X-WR-CALDESC:Events for Asheville FM
REFRESH-INTERVAL;VALUE=DURATION:PT1H
X-Robots-Tag:noindex
X-PUBLISHED-TTL:PT1H
BEGIN:VTIMEZONE
TZID:America/New_York
BEGIN:DAYLIGHT
TZOFFSETFROM:-0500
TZOFFSETTO:-0400
TZNAME:EDT
DTSTART:20170312T070000
END:DAYLIGHT
BEGIN:STANDARD
TZOFFSETFROM:-0400
TZOFFSETTO:-0500
TZNAME:EST
DTSTART:20171105T060000
END:STANDARD
BEGIN:DAYLIGHT
TZOFFSETFROM:-0500
TZOFFSETTO:-0400
TZNAME:EDT
DTSTART:20180311T070000
END:DAYLIGHT
BEGIN:STANDARD
TZOFFSETFROM:-0400
TZOFFSETTO:-0500
TZNAME:EST
DTSTART:20181104T060000
END:STANDARD
BEGIN:DAYLIGHT
TZOFFSETFROM:-0500
TZOFFSETTO:-0400
TZNAME:EDT
DTSTART:20190310T070000
END:DAYLIGHT
BEGIN:STANDARD
TZOFFSETFROM:-0400
TZOFFSETTO:-0500
TZNAME:EST
DTSTART:20191103T060000
END:STANDARD
END:VTIMEZONE
BEGIN:VEVENT
DTSTART;VALUE=DATE:20180517
DTEND;VALUE=DATE:20180518
DTSTAMP:20260420T002105
CREATED:20180512T013552Z
LAST-MODIFIED:20180512T013552Z
UID:9691-1526515200-1526601599@ashevillefm.org
SUMMARY:Thursday Concert & Movie Calendar
DESCRIPTION:HERE’S YOUR 103.3 Asheville FM EVENT CALENDAR for Thursday\, May 17th\n\n\n\nMUSIC TONIGHT\n\n\n\nperformer\nvenue\n\n\nPATIO SHOW w/ Andrew Thelston Duo (early) followed by The Steel Woods w/ Jive Mother Mary\nat The Grey Eagle\n\n\nSarah Louise (Album Release Show!) w/ Tashi Dorji/Emmalee Hunnicutt Duo\nat The Mothlight\n\n\nCat and Crow\nat UpCountry Brewing\n\n\nTRIVIA NIGHT (early) followed by VIBE & DIRECT\nat The One Stop\n\n\nOn the Lawn: Rahm Squad (early) followed by A Different Thread\nat Isis Music Hall\n\n\nCarolina Catskins\nat The Crow and Quill\n\n\nTrampled By Turtles w/ Hiss Golden Messenger\nHighland Brewing\n\n\nThe Liza Colby Sound w/ The Tip\, Bobbie Snakes & Hard Rocket\nat The Odditorium\n\n\nFREQUENCY: HOUSE SESSIONS\nat Ellington Underground\n\n\nCharles Walker Band & The Hollows\nAmbrose West\n\n\nTONIGHT AT THE MOVIES:\n\n\n\nFine Arts Theater is showing:\nTully & Lean on Pete\n\n\n\n\n\nGrail Moviehouse is showing:\nAvengers: Infinity War\, Foxtrot\, Grace Jones: Bloodlight and Bami\, Itzhak\, & You were Never Really There\n\n\n\n\n\nAsheville Pizza and Brewing is showing:\nSherlock Gnomes & Thor: Ragnarock\n\n\n\n\n\n\n 
URL:https://ashevillefm.org/event/thursday-concert-movie-calendar-31/
LOCATION:North Carolina
END:VEVENT
END:VCALENDAR