BEGIN:VCALENDAR
VERSION:2.0
PRODID:-//Asheville FM - ECPv6.15.17//NONSGML v1.0//EN
CALSCALE:GREGORIAN
METHOD:PUBLISH
X-WR-CALNAME:Asheville FM
X-ORIGINAL-URL:https://ashevillefm.org
X-WR-CALDESC:Events for Asheville FM
REFRESH-INTERVAL;VALUE=DURATION:PT1H
X-Robots-Tag:noindex
X-PUBLISHED-TTL:PT1H
BEGIN:VTIMEZONE
TZID:America/New_York
BEGIN:DAYLIGHT
TZOFFSETFROM:-0500
TZOFFSETTO:-0400
TZNAME:EDT
DTSTART:20170312T070000
END:DAYLIGHT
BEGIN:STANDARD
TZOFFSETFROM:-0400
TZOFFSETTO:-0500
TZNAME:EST
DTSTART:20171105T060000
END:STANDARD
BEGIN:DAYLIGHT
TZOFFSETFROM:-0500
TZOFFSETTO:-0400
TZNAME:EDT
DTSTART:20180311T070000
END:DAYLIGHT
BEGIN:STANDARD
TZOFFSETFROM:-0400
TZOFFSETTO:-0500
TZNAME:EST
DTSTART:20181104T060000
END:STANDARD
BEGIN:DAYLIGHT
TZOFFSETFROM:-0500
TZOFFSETTO:-0400
TZNAME:EDT
DTSTART:20190310T070000
END:DAYLIGHT
BEGIN:STANDARD
TZOFFSETFROM:-0400
TZOFFSETTO:-0500
TZNAME:EST
DTSTART:20191103T060000
END:STANDARD
END:VTIMEZONE
BEGIN:VEVENT
DTSTART;VALUE=DATE:20180525
DTEND;VALUE=DATE:20180526
DTSTAMP:20260420T220032
CREATED:20180525T011344Z
LAST-MODIFIED:20180525T011344Z
UID:9832-1527206400-1527292799@ashevillefm.org
SUMMARY:Friday Concert & Movie Calendar
DESCRIPTION:HERE’S YOUR 103.3 Asheville FM EVENT CALENDAR for Friday\, May 25th\n\n\n\nMUSIC TONIGHT\n\n\n\nperformer\nvenue\n\n\n12th Annual ABSFEST: Friday Burlesque FanDom Show\nat The Grey Eagle\n\n\nMary Lattimore w/ Simple Machines\nat The Mothlight\n\n\nASTRAL PLAINSMEN\nat UpCountry Brewing\n\n\nStyrofoam Turtles w/ Sane Voids\, David Webb’s Burning Bush & Sleepy Poetry\nat The Sly Grog\n\n\nDJ REROCK\nat Asheville Music Hall\n\n\nDEAD FRIDAYS (early) followed by MARQUEE MAYFIELD\nat The One Stop\n\n\nIsis Lawn Series w/ Lara Hope & The Ark-Tones (early) followed by Nuevo Flamenco Ensemble Ed Stephenson and the Paco Band\nat Isis Music Hall\n\n\nRagtime Jack Radcliffe (early) followed by Corey Flood w/ Secret Santas & Mouth Breathers\nat Fleetwood’s\n\n\nUNIVERSAL SIGH W/ LOG NOGGINS\nat Pisgah Brewing\n\n\nThe Front Bottoms w/ An Horse\nat The Orange Peel\n\n\nSalsa Shark\nat Salvage Station\n\n\nCloud City Caskets w/ The Shrunken Heads & The Talent\nat The Odditorium\n\n\nA Tribute to Steely Dan with The Fine Columbians\nAmbrose West\n\n\nTONIGHT AT THE MOVIES:\n\n\n\nFine Arts Theater is showing:\nRBG and Disobedience\n\n\n\n\n\nGrail Moviehouse is showing:\nLet The Sunshine In\, Solo: a Star Wars Story & The Rider\n\n\n\n\n\nAsheville Pizza and Brewing is showing:\nBlack Panther\n\n\n\n\n\n\n 
URL:https://ashevillefm.org/event/friday-concert-movie-calendar-25/
LOCATION:North Carolina
END:VEVENT
END:VCALENDAR