BEGIN:VCALENDAR
VERSION:2.0
PRODID:-//Asheville FM - ECPv6.15.17//NONSGML v1.0//EN
CALSCALE:GREGORIAN
METHOD:PUBLISH
X-WR-CALNAME:Asheville FM
X-ORIGINAL-URL:https://ashevillefm.org
X-WR-CALDESC:Events for Asheville FM
REFRESH-INTERVAL;VALUE=DURATION:PT1H
X-Robots-Tag:noindex
X-PUBLISHED-TTL:PT1H
BEGIN:VTIMEZONE
TZID:America/New_York
BEGIN:DAYLIGHT
TZOFFSETFROM:-0500
TZOFFSETTO:-0400
TZNAME:EDT
DTSTART:20170312T070000
END:DAYLIGHT
BEGIN:STANDARD
TZOFFSETFROM:-0400
TZOFFSETTO:-0500
TZNAME:EST
DTSTART:20171105T060000
END:STANDARD
BEGIN:DAYLIGHT
TZOFFSETFROM:-0500
TZOFFSETTO:-0400
TZNAME:EDT
DTSTART:20180311T070000
END:DAYLIGHT
BEGIN:STANDARD
TZOFFSETFROM:-0400
TZOFFSETTO:-0500
TZNAME:EST
DTSTART:20181104T060000
END:STANDARD
BEGIN:DAYLIGHT
TZOFFSETFROM:-0500
TZOFFSETTO:-0400
TZNAME:EDT
DTSTART:20190310T070000
END:DAYLIGHT
BEGIN:STANDARD
TZOFFSETFROM:-0400
TZOFFSETTO:-0500
TZNAME:EST
DTSTART:20191103T060000
END:STANDARD
END:VTIMEZONE
BEGIN:VEVENT
DTSTART;VALUE=DATE:20180526
DTEND;VALUE=DATE:20180527
DTSTAMP:20260422T013245
CREATED:20180525T011807Z
LAST-MODIFIED:20180525T011807Z
UID:9834-1527292800-1527379199@ashevillefm.org
SUMMARY:Saturday Concert & Movie Calendar
DESCRIPTION:HERE’S YOUR 103.3 Asheville FM EVENT CALENDAR for Saturday\, May 26th\n\n\n\nMUSIC TONIGHT\n\n\n\nperformer\nvenue\n\n\nThe Lost Chord: Moody Blues Tribute Band\nat The Grey Eagle\n\n\nNest Egg w/ Ex Gold & Smoke Bellow\nat The Mothlight\n\n\nBILLINGSLEY\nat UpCountry Brewing\n\n\nVic Crown w/ Electric Phantom & Howling Giant\nat The Sly Grog\n\n\nOFF WITH YOUR RADIOHEAD PRESENTS: IN RAINBOWS + OK COMPUTER\nat Asheville Music Hall\n\n\nBEAT LIFE: MOTHER HOOD w/ MUSASHI XERO & SLOW DRIP\nat The One Stop\n\n\nThe Rough & Tumble Return w/ New Record (early) followed by Saturday Night Dance Party with Jim Arrendell\nat Isis Music Hall\n\n\nMass Driver w/ Earth Collider & The Pythia\nat Fleetwood’s\n\n\nPHUNCLE SAM\nat Pisgah Brewing\n\n\n12th Annual ABSfest: Americana Burlesque & Sideshow Festival\nat The Orange Peel\n\n\nThe King of Pop Meets The Purple One (a michael Jackson Prince tribute band)\nat Salvage Station\n\n\nOdditorium Fleamarket! w/ Chew\, Ghost Dog & Luxury Club\nat The Odditorium\n\n\nRobert Finley w/ special guests\nAmbrose West\n\n\nTONIGHT AT THE MOVIES:\n\n\n\nFine Arts Theater is showing:\nRBG and Disobedience\n\n\n\n\n\nGrail Moviehouse is showing:\nLet The Sunshine In\, Solo: a Star Wars Story & The Rider\n\n\n\n\n\n\nAsheville Pizza and Brewing is showing:\nBlack Panther & Champions League final: Liverpool v Real Madrid\n\n\n\n\n\n\n 
URL:https://ashevillefm.org/event/saturday-concert-movie-calendar-28/
LOCATION:North Carolina
END:VEVENT
END:VCALENDAR