BEGIN:VCALENDAR
VERSION:2.0
PRODID:-//Asheville FM - ECPv6.15.17//NONSGML v1.0//EN
CALSCALE:GREGORIAN
METHOD:PUBLISH
X-ORIGINAL-URL:https://ashevillefm.org
X-WR-CALDESC:Events for Asheville FM
REFRESH-INTERVAL;VALUE=DURATION:PT1H
X-Robots-Tag:noindex
X-PUBLISHED-TTL:PT1H
BEGIN:VTIMEZONE
TZID:America/New_York
BEGIN:DAYLIGHT
TZOFFSETFROM:-0500
TZOFFSETTO:-0400
TZNAME:EDT
DTSTART:20170312T070000
END:DAYLIGHT
BEGIN:STANDARD
TZOFFSETFROM:-0400
TZOFFSETTO:-0500
TZNAME:EST
DTSTART:20171105T060000
END:STANDARD
BEGIN:DAYLIGHT
TZOFFSETFROM:-0500
TZOFFSETTO:-0400
TZNAME:EDT
DTSTART:20180311T070000
END:DAYLIGHT
BEGIN:STANDARD
TZOFFSETFROM:-0400
TZOFFSETTO:-0500
TZNAME:EST
DTSTART:20181104T060000
END:STANDARD
BEGIN:DAYLIGHT
TZOFFSETFROM:-0500
TZOFFSETTO:-0400
TZNAME:EDT
DTSTART:20190310T070000
END:DAYLIGHT
BEGIN:STANDARD
TZOFFSETFROM:-0400
TZOFFSETTO:-0500
TZNAME:EST
DTSTART:20191103T060000
END:STANDARD
END:VTIMEZONE
BEGIN:VEVENT
DTSTART;VALUE=DATE:20180527
DTEND;VALUE=DATE:20180528
DTSTAMP:20260422T013200
CREATED:20180525T012007Z
LAST-MODIFIED:20180525T012007Z
UID:9836-1527379200-1527465599@ashevillefm.org
SUMMARY:Sunday Concert & Movie Calendar
DESCRIPTION:HERE’S YOUR 103.3 Asheville FM EVENT CALENDAR for Sunday\, May 27th\n\n\n\nMUSIC TONIGHT\n\n\n\nperformer\nvenue\n\n\n12th Annual ABSFEST: Sunday Burlesque Brunch Show (early) followed by The Dirty Soul Revival + BROTHRS\nat The Grey Eagle\n\n\nA Place To Bury Strangers w/ Prettiest Eyes & Lacy Jags\nat The Mothlight\n\n\nOpen Mic\nat The Sly Grog\n\n\nBLUEGRASS BRUNCH W/ WOODY AND KREKEL & BALD MOUNTAIN BOYS\nat Asheville Music Hall\n\n\nThe Misty Mountain String Band (early) followed by Russ Wilson Presents GIVE THE DRUMMER SOME!\nat Isis Music Hall\n\n\nGaping Maw freakshow case (early) followed by Race to the Coffin (Comedy)\nat Fleetwood’s\n\n\nPISGAH SUNDAY JAM\nat Pisgah Brewing\n\n\nBig Kitty\, Blind Will See\, K’LS\, and Jessie Jinx\nat Static Age Records\n\n\nGabbie Rotts w/ The Velvet Wolves & Seven and a Half Giraffe\nat The Odditorium\n\n\nTONIGHT AT THE MOVIES:\n\n\n\nFine Arts Theater is showing:\nRBG and Disobedience\n\n\n\n\n\nGrail Moviehouse is showing:\nLet The Sunshine In\, Solo: a Star Wars Story & The Rider\n\n\n\n\n\n\nAsheville Pizza and Brewing is showing:\nBlack Panther\n\n\n\n\n\n\n 
URL:https://ashevillefm.org/event/sunday-concert-movie-calendar-30/
LOCATION:North Carolina
END:VEVENT
END:VCALENDAR