BEGIN:VCALENDAR
VERSION:2.0
PRODID:-//Asheville FM - ECPv6.15.17//NONSGML v1.0//EN
CALSCALE:GREGORIAN
METHOD:PUBLISH
X-ORIGINAL-URL:https://ashevillefm.org
X-WR-CALDESC:Events for Asheville FM
REFRESH-INTERVAL;VALUE=DURATION:PT1H
X-Robots-Tag:noindex
X-PUBLISHED-TTL:PT1H
BEGIN:VTIMEZONE
TZID:America/New_York
BEGIN:DAYLIGHT
TZOFFSETFROM:-0500
TZOFFSETTO:-0400
TZNAME:EDT
DTSTART:20170312T070000
END:DAYLIGHT
BEGIN:STANDARD
TZOFFSETFROM:-0400
TZOFFSETTO:-0500
TZNAME:EST
DTSTART:20171105T060000
END:STANDARD
BEGIN:DAYLIGHT
TZOFFSETFROM:-0500
TZOFFSETTO:-0400
TZNAME:EDT
DTSTART:20180311T070000
END:DAYLIGHT
BEGIN:STANDARD
TZOFFSETFROM:-0400
TZOFFSETTO:-0500
TZNAME:EST
DTSTART:20181104T060000
END:STANDARD
BEGIN:DAYLIGHT
TZOFFSETFROM:-0500
TZOFFSETTO:-0400
TZNAME:EDT
DTSTART:20190310T070000
END:DAYLIGHT
BEGIN:STANDARD
TZOFFSETFROM:-0400
TZOFFSETTO:-0500
TZNAME:EST
DTSTART:20191103T060000
END:STANDARD
END:VTIMEZONE
BEGIN:VEVENT
DTSTART;VALUE=DATE:20180528
DTEND;VALUE=DATE:20180529
DTSTAMP:20260423T071856
CREATED:20180525T012222Z
LAST-MODIFIED:20180525T012222Z
UID:9838-1527465600-1527551999@ashevillefm.org
SUMMARY:Monday Concert & Movie Calendar
DESCRIPTION:HERE’S YOUR 103.3 Asheville FM EVENT CALENDAR for Monday\, May 28th\n\n\n\nMUSIC TONIGHT\n\n\n\nperformer\nvenue\n\n\nOpen Mic Night\nat The Grey Eagle\n\n\nBreathers w/ Giant Giants\, Superbody & Celia Verbeck\nat The Mothlight\n\n\nBLUEGRASS JAM\nat UpCountry Brewing\n\n\nROLL’N FOR BEERS: A BLUERIDGE ROLLER DERBY BENEFIT FT. UNIHORN\nat Asheville Music Hall\n\n\nWargo (queer folk punk)\nat Fleetwood’s\n\n\nRisque Monday Burlesque Hosted By Deb Au Nare\nat The Odditorium\n\n\nTONIGHT AT THE MOVIES:\n\n\n\nFine Arts Theater is showing:\nRBG and Disobedience\n\n\n\n\n\nGrail Moviehouse is showing:\nLet The Sunshine In\, Solo: a Star Wars Story & The Rider\n\n\n\n\n\n\nAsheville Pizza and Brewing is showing:\nBlack Panther\n\n\n\n\n\n\n 
URL:https://ashevillefm.org/event/monday-concert-movie-calendar-34/
LOCATION:North Carolina
END:VEVENT
END:VCALENDAR