BEGIN:VCALENDAR
VERSION:2.0
PRODID:-//Asheville FM - ECPv6.15.17//NONSGML v1.0//EN
CALSCALE:GREGORIAN
METHOD:PUBLISH
X-WR-CALNAME:Asheville FM
X-ORIGINAL-URL:https://ashevillefm.org
X-WR-CALDESC:Events for Asheville FM
REFRESH-INTERVAL;VALUE=DURATION:PT1H
X-Robots-Tag:noindex
X-PUBLISHED-TTL:PT1H
BEGIN:VTIMEZONE
TZID:America/New_York
BEGIN:DAYLIGHT
TZOFFSETFROM:-0500
TZOFFSETTO:-0400
TZNAME:EDT
DTSTART:20170312T070000
END:DAYLIGHT
BEGIN:STANDARD
TZOFFSETFROM:-0400
TZOFFSETTO:-0500
TZNAME:EST
DTSTART:20171105T060000
END:STANDARD
BEGIN:DAYLIGHT
TZOFFSETFROM:-0500
TZOFFSETTO:-0400
TZNAME:EDT
DTSTART:20180311T070000
END:DAYLIGHT
BEGIN:STANDARD
TZOFFSETFROM:-0400
TZOFFSETTO:-0500
TZNAME:EST
DTSTART:20181104T060000
END:STANDARD
BEGIN:DAYLIGHT
TZOFFSETFROM:-0500
TZOFFSETTO:-0400
TZNAME:EDT
DTSTART:20190310T070000
END:DAYLIGHT
BEGIN:STANDARD
TZOFFSETFROM:-0400
TZOFFSETTO:-0500
TZNAME:EST
DTSTART:20191103T060000
END:STANDARD
END:VTIMEZONE
BEGIN:VEVENT
DTSTART;VALUE=DATE:20180707
DTEND;VALUE=DATE:20180708
DTSTAMP:20260425T231502
CREATED:20180706T165748Z
LAST-MODIFIED:20180706T165748Z
UID:10277-1530921600-1531007999@ashevillefm.org
SUMMARY:Saturday Concert & Movie Calendar
DESCRIPTION:HERE’S YOUR 103.3 Asheville FM EVENT CALENDAR for Saturday\, July 7th\n\n\n\nMUSIC TONIGHT\n\n\n\nperformer\nvenue\n\n\nSpice World Movie Night and Dance Party\nat The Grey Eagle\n\n\nMatt Townsend and the Wild Lights w/ Southern Pine\nat The Mothlight\n\n\nPhuncle Sam\nat UpCountry Brewing\n\n\nThe Night Physics w/ The Half That Matters & Aqua Mule\nat The Sly Grog\n\n\nSATURDAY NIGHT JIVE W/ DJ AVX\nat Asheville Music Hall\n\n\nNATCHEZ TRACERS\nat The One Stop\n\n\nIsis Lawn Series w/ West End Trio (early followed by Finn Magill & Dave Curley\nat Isis Music Hall\n\n\nHouse Hoppers\nat The Crow and Quill\n\n\n10 YEARS LATER BAND w/ THE HUTCHENS HANG\nat Pisgah Brewing\n\n\n¡El Barrio! Salsa Nights\nat The Block off Biltmore\n\n\nUnknown Mortal Orchestra w/ Shamir\nat The Orange Peel\n\n\nRESIST! A Benefit to Fight Unnatural Disasters\nat Salvage Station\n\n\nDendrons (Chicago)\, Grendel’s Mother & Daydream Creatures\nat The Odditorium\n\n\nTONIGHT AT THE MOVIES:\n\n\n\nFine Arts Theater is showing:\nHeart beats Loud & Won’t You Be My Neighbor\n\n\n\n\n\nGrail Moviehouse is showing:\nBad Movie Nite\, Mechanical Eye Microcinema\, Thursday Horror Picture Show\, Silent Sundays & Asheville Film Society’s Feature Presentation\n\n\n\n\n\nAsheville Pizza and Brewing is showing:\nBabe\, Life of The Party & Adrift\n\n\n\n\n\n\n 
URL:https://ashevillefm.org/event/saturday-concert-movie-calendar-30/
LOCATION:North Carolina
END:VEVENT
END:VCALENDAR