BEGIN:VCALENDAR
VERSION:2.0
PRODID:-//Asheville FM - ECPv6.15.17//NONSGML v1.0//EN
CALSCALE:GREGORIAN
METHOD:PUBLISH
X-ORIGINAL-URL:https://ashevillefm.org
X-WR-CALDESC:Events for Asheville FM
REFRESH-INTERVAL;VALUE=DURATION:PT1H
X-Robots-Tag:noindex
X-PUBLISHED-TTL:PT1H
BEGIN:VTIMEZONE
TZID:America/New_York
BEGIN:DAYLIGHT
TZOFFSETFROM:-0500
TZOFFSETTO:-0400
TZNAME:EDT
DTSTART:20170312T070000
END:DAYLIGHT
BEGIN:STANDARD
TZOFFSETFROM:-0400
TZOFFSETTO:-0500
TZNAME:EST
DTSTART:20171105T060000
END:STANDARD
BEGIN:DAYLIGHT
TZOFFSETFROM:-0500
TZOFFSETTO:-0400
TZNAME:EDT
DTSTART:20180311T070000
END:DAYLIGHT
BEGIN:STANDARD
TZOFFSETFROM:-0400
TZOFFSETTO:-0500
TZNAME:EST
DTSTART:20181104T060000
END:STANDARD
BEGIN:DAYLIGHT
TZOFFSETFROM:-0500
TZOFFSETTO:-0400
TZNAME:EDT
DTSTART:20190310T070000
END:DAYLIGHT
BEGIN:STANDARD
TZOFFSETFROM:-0400
TZOFFSETTO:-0500
TZNAME:EST
DTSTART:20191103T060000
END:STANDARD
END:VTIMEZONE
BEGIN:VEVENT
DTSTART;VALUE=DATE:20180714
DTEND;VALUE=DATE:20180715
DTSTAMP:20260425T232744
CREATED:20180713T160230Z
LAST-MODIFIED:20180713T160230Z
UID:10320-1531526400-1531612799@ashevillefm.org
SUMMARY:Saturday Concert & Movie Calendar
DESCRIPTION:HERE’S YOUR 103.3 Asheville FM EVENT CALENDAR for Saturday\, July 14th\n\n\n\nMUSIC TONIGHT\n\n\n\nperformer\nvenue\n\n\nWorld Cup Viewing Party – THIRD PLACE MATCH (daytime) followed by Somewhat Petty: A Tom Petty Tribute Band\nat The Grey Eagle\n\n\nTurn Up For Progress! ~A 90s Themed Party\nat The Mothlight\n\n\nTHE DIRTY DEAD\nat UpCountry Brewing\n\n\nArmadilla w/ The Remarks and Billingsley\nat The Sly Grog\n\n\nSATURDAY NIGHT JIVE W/ ROBBIE DUDE | SUMMER DANCE SERIES\nat Asheville Music Hall\n\n\nFUX\nat The One Stop\n\n\nReggie Harris (early) followed by Beth Snapp Band with Rebecca Haviland and Whiskey Heart\nat Isis Music Hall\n\n\nKnives & Daggers w/ Lawndry & Hari\nat Fleetwood’s\n\n\nLaurel Lee & the Escapees\nat The Crow and Quill\n\n\nSTS9 WITH COFRESI\nat Pisgah Brewing\n\n\nSalsa & Latin Dance party Night w. DJ Edi Fuentes\nat The Block off Biltmore\n\n\nOld School Dance Fitness\nat The Orange Peel\n\n\nIngmar Bergman’s 100th birthday screening his film Persona\nat Revolve\n\n\nLucero\nat Salvage Station\n\n\nPleasures of the ultraviolent welcome home show\nat The Odditorium\n\n\nStand up Comendy\nat Static Age Records\n\n\nCourtyard series w/ Keef Harry & Hannah Hoyt\nAmbrose West\n\n\nTONIGHT AT THE MOVIES:\n\n\n\nFine Arts Theater is showing:\nWon’t you be my neighbor & Sorry to bother you\n\n\n\n\n\nGrail Moviehouse is showing:\nDamsel\, The Incredibles 2\, The Seagull\, Hereditary\, American Animals & Bad Movie nite (late)\n\n\n\n\n\nAsheville Pizza and Brewing is showing:\nRBG\, Mrs. Doubtfire – 25th Anniversary Screening\, & I Feel Pretty\n\n\n\n\n\n\n 
URL:https://ashevillefm.org/event/saturday-concert-movie-calendar-31/
LOCATION:North Carolina
END:VEVENT
END:VCALENDAR