BEGIN:VCALENDAR
VERSION:2.0
PRODID:-//Asheville FM - ECPv6.15.17//NONSGML v1.0//EN
CALSCALE:GREGORIAN
METHOD:PUBLISH
X-ORIGINAL-URL:https://ashevillefm.org
X-WR-CALDESC:Events for Asheville FM
REFRESH-INTERVAL;VALUE=DURATION:PT1H
X-Robots-Tag:noindex
X-PUBLISHED-TTL:PT1H
BEGIN:VTIMEZONE
TZID:America/New_York
BEGIN:DAYLIGHT
TZOFFSETFROM:-0500
TZOFFSETTO:-0400
TZNAME:EDT
DTSTART:20170312T070000
END:DAYLIGHT
BEGIN:STANDARD
TZOFFSETFROM:-0400
TZOFFSETTO:-0500
TZNAME:EST
DTSTART:20171105T060000
END:STANDARD
BEGIN:DAYLIGHT
TZOFFSETFROM:-0500
TZOFFSETTO:-0400
TZNAME:EDT
DTSTART:20180311T070000
END:DAYLIGHT
BEGIN:STANDARD
TZOFFSETFROM:-0400
TZOFFSETTO:-0500
TZNAME:EST
DTSTART:20181104T060000
END:STANDARD
BEGIN:DAYLIGHT
TZOFFSETFROM:-0500
TZOFFSETTO:-0400
TZNAME:EDT
DTSTART:20190310T070000
END:DAYLIGHT
BEGIN:STANDARD
TZOFFSETFROM:-0400
TZOFFSETTO:-0500
TZNAME:EST
DTSTART:20191103T060000
END:STANDARD
END:VTIMEZONE
BEGIN:VEVENT
DTSTART;VALUE=DATE:20180717
DTEND;VALUE=DATE:20180718
DTSTAMP:20260425T232704
CREATED:20180713T160619Z
LAST-MODIFIED:20180713T160619Z
UID:10326-1531785600-1531871999@ashevillefm.org
SUMMARY:Tuesday Concert & Movie Calendar
DESCRIPTION:HERE’S YOUR 103.3 Asheville FM EVENT CALENDAR for Tuesday\, July 17th\n\n\n\nMUSIC TONIGHT\n\n\n\nperformer\nvenue\n\n\nOPEN MIC NIGHT\nat UpCountry Brewing\n\n\nUncle Kurtis & The Styrofoam Turtles\nat The Sly Grog\n\n\nTUESDAY NIGHT FUNK JAM\nat Asheville Music Hall\n\n\nTurntable Tuesday\nat The One Stop\n\n\nTuesday Bluegrass Sessions hosted by Berachah Valley\nat Isis Music Hall\n\n\nJazz-n-Justice Swing Dance Benefit w/ the low down sires\nat The Block off Biltmore\n\n\nOpen mic comedy hosted by Tom Peters\nat The Odditorium\n\n\nTONIGHT AT THE MOVIES:\n\n\n\nFine Arts Theater is showing:\nWon’t you be my neighbor & Sorry to bother you\n\n\n\n\n\nGrail Moviehouse is showing:\nBoundaries\, Jurassic World: Fallen Kingdom\, Damsel\, The Seagull\, & Hereditary\n\n\n\n\n\nAsheville Pizza and Brewing is showing:\nRBG\, Mrs. Doubtfire – 25th Anniversary Screening\, & I Feel Pretty\n\n\n\n\n\n\n 
URL:https://ashevillefm.org/event/tuesday-concert-movie-calendar-36/
LOCATION:North Carolina
END:VEVENT
END:VCALENDAR