BEGIN:VCALENDAR
VERSION:2.0
PRODID:-//Asheville FM - ECPv6.15.17//NONSGML v1.0//EN
CALSCALE:GREGORIAN
METHOD:PUBLISH
X-WR-CALNAME:Asheville FM
X-ORIGINAL-URL:https://ashevillefm.org
X-WR-CALDESC:Events for Asheville FM
REFRESH-INTERVAL;VALUE=DURATION:PT1H
X-Robots-Tag:noindex
X-PUBLISHED-TTL:PT1H
BEGIN:VTIMEZONE
TZID:America/New_York
BEGIN:DAYLIGHT
TZOFFSETFROM:-0500
TZOFFSETTO:-0400
TZNAME:EDT
DTSTART:20170312T070000
END:DAYLIGHT
BEGIN:STANDARD
TZOFFSETFROM:-0400
TZOFFSETTO:-0500
TZNAME:EST
DTSTART:20171105T060000
END:STANDARD
BEGIN:DAYLIGHT
TZOFFSETFROM:-0500
TZOFFSETTO:-0400
TZNAME:EDT
DTSTART:20180311T070000
END:DAYLIGHT
BEGIN:STANDARD
TZOFFSETFROM:-0400
TZOFFSETTO:-0500
TZNAME:EST
DTSTART:20181104T060000
END:STANDARD
BEGIN:DAYLIGHT
TZOFFSETFROM:-0500
TZOFFSETTO:-0400
TZNAME:EDT
DTSTART:20190310T070000
END:DAYLIGHT
BEGIN:STANDARD
TZOFFSETFROM:-0400
TZOFFSETTO:-0500
TZNAME:EST
DTSTART:20191103T060000
END:STANDARD
END:VTIMEZONE
BEGIN:VEVENT
DTSTART;VALUE=DATE:20180719
DTEND;VALUE=DATE:20180720
DTSTAMP:20260425T232356
CREATED:20180720T232227Z
LAST-MODIFIED:20180720T232227Z
UID:10405-1531958400-1532044799@ashevillefm.org
SUMMARY:Thursday Concert & Movie Calendar
DESCRIPTION:HERE’S YOUR 103.3 Asheville FM EVENT CALENDAR for Thursday\, July 19th\n\n\n\nMUSIC TONIGHT\n\n\n\nperformer\nvenue\n\n\nPaul Edelman (early patio show) followed by Pressing Strings w/ Skribe\nat The Grey Eagle\n\n\nThe Moth: True Stories Told Live (Theme: Age)\nat The Mothlight\n\n\nBREWER BRYAN ACOUSTIC\nat UpCountry Brewing\n\n\nOwl // Autocrat\nat The Sly Grog\n\n\nMELD W/ THE KNOTTY G’S\nat The One Stop\n\n\nConcert on the Lawn with Queen Bee & the Honeylovers & Freebo and Alice Howe (early) followed by Brian Dunne and Laura Rabell\nat Isis Music Hall\n\n\nMozaic\, Dr Ock\, & Effigy\nat Static Age Records\n\n\nCarolina Catskins\nat The Crow and Quill\n\n\nWOODY WOOD TRIO\nat Pisgah Brewing\n\n\n80s Goth Dance Party “A Night Like This”\nat The Block off Biltmore\n\n\nSlice Of Life Comedy Open Mic at Pulp\nat The Orange Peel\n\n\nChuck Lichtenberger\nat Salvage Station\n\n\nPrichard Park Music Series: Christy Lynn Band\nat Pritchard Park\, downtown\n\n\nTONIGHT AT THE MOVIES:\n\n\n\nFine Arts Theater is showing:\nWon’t you be my neighbor & Sorry to bother you\n\n\n\n\n\nGrail Moviehouse is showing:\nBoundaries\, Jurassic World: Fallen Kingdom\, Damsel\, The Seagull\, & Hereditary\n\n\n\n\n\nAsheville Pizza and Brewing is showing:\nRBG\, Mrs. Doubtfire – 25th Anniversary Screening\, & I Feel Pretty\n\n\n\n\n\n\n 
URL:https://ashevillefm.org/event/thursday-concert-movie-calendar-37/
LOCATION:North Carolina
END:VEVENT
END:VCALENDAR