BEGIN:VCALENDAR
VERSION:2.0
PRODID:-//Asheville FM - ECPv6.15.17//NONSGML v1.0//EN
CALSCALE:GREGORIAN
METHOD:PUBLISH
X-ORIGINAL-URL:https://ashevillefm.org
X-WR-CALDESC:Events for Asheville FM
REFRESH-INTERVAL;VALUE=DURATION:PT1H
X-Robots-Tag:noindex
X-PUBLISHED-TTL:PT1H
BEGIN:VTIMEZONE
TZID:America/New_York
BEGIN:DAYLIGHT
TZOFFSETFROM:-0500
TZOFFSETTO:-0400
TZNAME:EDT
DTSTART:20170312T070000
END:DAYLIGHT
BEGIN:STANDARD
TZOFFSETFROM:-0400
TZOFFSETTO:-0500
TZNAME:EST
DTSTART:20171105T060000
END:STANDARD
BEGIN:DAYLIGHT
TZOFFSETFROM:-0500
TZOFFSETTO:-0400
TZNAME:EDT
DTSTART:20180311T070000
END:DAYLIGHT
BEGIN:STANDARD
TZOFFSETFROM:-0400
TZOFFSETTO:-0500
TZNAME:EST
DTSTART:20181104T060000
END:STANDARD
BEGIN:DAYLIGHT
TZOFFSETFROM:-0500
TZOFFSETTO:-0400
TZNAME:EDT
DTSTART:20190310T070000
END:DAYLIGHT
BEGIN:STANDARD
TZOFFSETFROM:-0400
TZOFFSETTO:-0500
TZNAME:EST
DTSTART:20191103T060000
END:STANDARD
END:VTIMEZONE
BEGIN:VEVENT
DTSTART;VALUE=DATE:20180722
DTEND;VALUE=DATE:20180723
DTSTAMP:20260425T041314
CREATED:20180720T232750Z
LAST-MODIFIED:20180720T232750Z
UID:10411-1532217600-1532303999@ashevillefm.org
SUMMARY:Sunday Concert & Movie Calendar
DESCRIPTION:HERE’S YOUR 103.3 Asheville FM EVENT CALENDAR for Sunday\, July 22nd\n\n\n\nMUSIC TONIGHT\n\n\n\nperformer\nvenue\n\n\nGood Vibes with Oso Rey\nat Bens Tune Up\n\n\nPATIO SHOW :: Chelsea Lovitt & Boys\nat The Grey Eagle\n\n\nBeers & Yoga (AM) followed by NC SONGSMITH’S SERIES\nat The Mothlight\n\n\nOpen Mic\nat The Sly Grog\n\n\nBluegrass Brunch w/ Woody and Krekel & Bald Mountain Boys\nat Asheville Music Hall\n\n\nJonathan Byrd and The Pickup Cowboy (early) followed by Rockin’ in Rhythm :: The Music of Duke Ellington And The Cotton Club\nat Isis Music Hall\n\n\nWitchsister/Mega X\nat Fleetwood’s\n\n\nBeards of Valenccio\nat The Crow and Quill\n\n\nPisgah Sunday Jam\nat Pisgah Brewing\n\n\nA Night of Music\, Conversations\, and Stories with Gustavo Guerrero\nat The Block off Biltmore\n\n\nGÄK / SAWZAW at PULP\nat The Orange Peel\n\n\nCraft Fair of the Southern Highlands\nat US Cellular Center\n\n\nVelvet Wolves\, Cloud City Caskets\, Honey honey Wilson & the outrageous Fun boys\nat The Odditorium\n\n\nSideline\nAmbrose West\n\n\nTONIGHT AT THE MOVIES:\n\n\n\nFine Arts Theater is showing:\nWon’t You Be My Neighbor & Sorry To Bother You\n\n\n\n\n\nGrail Moviehouse is showing:\nMamma Mia: Here we go again\, The King\, Three identical Strangers & Hereditary\n\n\n\n\n\nAsheville Pizza and Brewing is showing:\nRampage & Deadpool 2\n\n\n\n\n\n\n 
URL:https://ashevillefm.org/event/sunday-concert-movie-calendar-34/
LOCATION:North Carolina
END:VEVENT
END:VCALENDAR